BEGIN:VCALENDAR
VERSION:2.0
PRODID:-//Family Mental Health Support - ECPv5.14.1//NONSGML v1.0//EN
CALSCALE:GREGORIAN
METHOD:PUBLISH
X-WR-CALNAME:Family Mental Health Support
X-ORIGINAL-URL:https://familymentalhealthsupport.com
X-WR-CALDESC:Events for Family Mental Health Support
REFRESH-INTERVAL;VALUE=DURATION:PT1H
X-Robots-Tag:noindex
X-PUBLISHED-TTL:PT1H
BEGIN:VTIMEZONE
TZID:America/Chicago
BEGIN:DAYLIGHT
TZOFFSETFROM:-0600
TZOFFSETTO:-0500
TZNAME:CDT
DTSTART:20240310T080000
END:DAYLIGHT
BEGIN:STANDARD
TZOFFSETFROM:-0500
TZOFFSETTO:-0600
TZNAME:CST
DTSTART:20241103T070000
END:STANDARD
END:VTIMEZONE
BEGIN:VEVENT
DTSTART;TZID=America/Chicago:20240917T160000
DTEND;TZID=America/Chicago:20240917T173000
DTSTAMP:20260421T052802
CREATED:20240702T225406Z
LAST-MODIFIED:20240702T225406Z
UID:878-1726588800-1726594200@familymentalhealthsupport.com
SUMMARY:CHOSEN Season 4
DESCRIPTION:A bi-monthly discussion group on the series\, “The Chosen”\, Season 4 will be led by Pastor Carol Johnson.  Sessions will be 4-5:30pm at the FMHS office\, 202 N. Banker. The eight sessions will end on December 17\, 2024.
URL:https://familymentalhealthsupport.com/calendar/chosen-season-4/2024-09-17/
LOCATION:FMHS\, 202 N. Banker\, Effingham\, IL\, 62401\, United States
ORGANIZER;CN="Family%20Mental%20Health%20Support":MAILTO:info@familymentalhealthsupport.com
END:VEVENT
END:VCALENDAR